BEGIN:VCALENDAR
VERSION:2.0
PRODID:-//College of Natural Resources - ECPv6.15.20//NONSGML v1.0//EN
CALSCALE:GREGORIAN
METHOD:PUBLISH
X-WR-CALNAME:College of Natural Resources
X-ORIGINAL-URL:https://cnr.ncsu.edu
X-WR-CALDESC:Events for College of Natural Resources
REFRESH-INTERVAL;VALUE=DURATION:PT1H
X-Robots-Tag:noindex
X-PUBLISHED-TTL:PT1H
BEGIN:VTIMEZONE
TZID:America/New_York
BEGIN:DAYLIGHT
TZOFFSETFROM:-0500
TZOFFSETTO:-0400
TZNAME:EDT
DTSTART:20250309T070000
END:DAYLIGHT
BEGIN:STANDARD
TZOFFSETFROM:-0400
TZOFFSETTO:-0500
TZNAME:EST
DTSTART:20251102T060000
END:STANDARD
BEGIN:DAYLIGHT
TZOFFSETFROM:-0500
TZOFFSETTO:-0400
TZNAME:EDT
DTSTART:20260308T070000
END:DAYLIGHT
BEGIN:STANDARD
TZOFFSETFROM:-0400
TZOFFSETTO:-0500
TZNAME:EST
DTSTART:20261101T060000
END:STANDARD
BEGIN:DAYLIGHT
TZOFFSETFROM:-0500
TZOFFSETTO:-0400
TZNAME:EDT
DTSTART:20270314T070000
END:DAYLIGHT
BEGIN:STANDARD
TZOFFSETFROM:-0400
TZOFFSETTO:-0500
TZNAME:EST
DTSTART:20271107T060000
END:STANDARD
END:VTIMEZONE
BEGIN:VEVENT
DTSTART;TZID=America/New_York:20260428T080000
DTEND;TZID=America/New_York:20260428T170000
DTSTAMP:20260419T110829
CREATED:20251106T011140Z
LAST-MODIFIED:20251106T011140Z
UID:372706-1777363200-1777395600@cnr.ncsu.edu
SUMMARY:Last Day of Classes
DESCRIPTION:
URL:https://cnr.ncsu.edu/event/last-day-of-classes/
CATEGORIES:College of Natural Resources,Forest Biomaterials,Forestry and Environmental Resources,Parks Recreation and Tourism Management
END:VEVENT
BEGIN:VEVENT
DTSTART;TZID=America/New_York:20260509T080000
DTEND;TZID=America/New_York:20260509T170000
DTSTAMP:20260419T110829
CREATED:20251106T011306Z
LAST-MODIFIED:20260406T133625Z
UID:372708-1778313600-1778346000@cnr.ncsu.edu
SUMMARY:Spring Commencement Exercises
DESCRIPTION:Please see the Graduation and Commencement page for details
URL:https://cnr.ncsu.edu/event/spring-commencement-exercises-2/
CATEGORIES:College of Natural Resources,Forest Biomaterials,Forestry and Environmental Resources,Parks Recreation and Tourism Management
END:VEVENT
END:VCALENDAR